BEGIN:VCALENDAR
VERSION:2.0
PRODID:-//The Bullpen - ECPv6.15.20//NONSGML v1.0//EN
CALSCALE:GREGORIAN
METHOD:PUBLISH
X-WR-CALNAME:The Bullpen
X-ORIGINAL-URL:https://www.thebullpendc.com
X-WR-CALDESC:Events for The Bullpen
REFRESH-INTERVAL;VALUE=DURATION:PT1H
X-Robots-Tag:noindex
X-PUBLISHED-TTL:PT1H
BEGIN:VTIMEZONE
TZID:UTC
BEGIN:STANDARD
TZOFFSETFROM:+0000
TZOFFSETTO:+0000
TZNAME:UTC
DTSTART:20240101T000000
END:STANDARD
END:VTIMEZONE
BEGIN:VEVENT
DTSTART;TZID=UTC:20250504T150000
DTEND;TZID=UTC:20250504T220000
DTSTAMP:20260423T160146
CREATED:20250428T160402Z
LAST-MODIFIED:20250428T160402Z
UID:1579-1746370800-1746396000@www.thebullpendc.com
SUMMARY:Everyday People
DESCRIPTION:Join us with Everyday People @ The Bullpen 3pm-10pm.
URL:https://www.thebullpendc.com/weekly-schedule/everyday-people/
LOCATION:The Bullpen\, 1201 Half St SE\, Washington\, DC\, 20003\, United States
END:VEVENT
END:VCALENDAR