BEGIN:VCALENDAR
VERSION:2.0
PRODID:-//The Bullpen - ECPv6.15.20//NONSGML v1.0//EN
CALSCALE:GREGORIAN
METHOD:PUBLISH
X-ORIGINAL-URL:https://www.thebullpendc.com
X-WR-CALDESC:Events for The Bullpen
REFRESH-INTERVAL;VALUE=DURATION:PT1H
X-Robots-Tag:noindex
X-PUBLISHED-TTL:PT1H
BEGIN:VTIMEZONE
TZID:UTC
BEGIN:STANDARD
TZOFFSETFROM:+0000
TZOFFSETTO:+0000
TZNAME:UTC
DTSTART:20240101T000000
END:STANDARD
END:VTIMEZONE
BEGIN:VEVENT
DTSTART;TZID=UTC:20250522T160000
DTEND;TZID=UTC:20250522T220000
DTSTAMP:20260423T160405
CREATED:20250210T162200Z
LAST-MODIFIED:20250210T162200Z
UID:1284-1747929600-1747951200@www.thebullpendc.com
SUMMARY:Nationals Vs. Braves / Gates 4:00pm
DESCRIPTION:Join us for another season of baseball\, brews\, and bands at The Bullpen! \n\nGates open at 4:00pm\nGame starts at 6:45pm\n\n— \nThis season\, The Bullpen continues to be the ultimate go-to destination for Nationals fans\, live music lovers\, and those looking to enjoy the best outdoor atmosphere in the city.  \nVisitors can look forward to an exciting lineup of offerings\, including: \n\nUpcoming country concerts and tribute band performances\nHome Game Happy Hour: $6 beers $7 cocktails from the top of the 3rd to bottom of 7th inning\nPre and post home game concerts featuring various DMV artists\nSurfside Food Truck with your favorite tacos\, quesadillas\, and burritos\n\nCheck our Instagram @thebullpendc for door times and event announcements. \n\nTo learn more about reserving our private dugouts and patios during Nationals’ games and concerts\, please contact Kayla Smith by emailing kayla@georgetownevents.com or calling (771) 241-3618. \nSee you there!
URL:https://www.thebullpendc.com/weekly-schedule/nationals-vs-braves-05-22-25/
LOCATION:The Bullpen\, 1201 Half Street Southeast\, Washington\, D.C.\, DC\, 20003\, United States
CATEGORIES:Nationals Games
END:VEVENT
BEGIN:VEVENT
DTSTART;TZID=UTC:20250522T164500
DTEND;TZID=UTC:20250522T184500
DTSTAMP:20260423T160405
CREATED:20250512T195208Z
LAST-MODIFIED:20250513T134441Z
UID:1609-1747932300-1747939500@www.thebullpendc.com
SUMMARY:Live Music: Rock Creek Kings @ The Bullpen
DESCRIPTION:Come and join us for some live music before the Nats Game! \nCheck the band out www.rockcreekkings.com
URL:https://www.thebullpendc.com/weekly-schedule/live-music-rock-creek-kings-the-bullpen-3/
LOCATION:The Bullpen\, 1201 Half St SE\, Washington\, DC\, 20003\, United States
CATEGORIES:Free Live Music
END:VEVENT
END:VCALENDAR