BEGIN:VCALENDAR
VERSION:2.0
PRODID:-//The Bullpen - ECPv6.15.20//NONSGML v1.0//EN
CALSCALE:GREGORIAN
METHOD:PUBLISH
X-WR-CALNAME:The Bullpen
X-ORIGINAL-URL:https://www.thebullpendc.com
X-WR-CALDESC:Events for The Bullpen
REFRESH-INTERVAL;VALUE=DURATION:PT1H
X-Robots-Tag:noindex
X-PUBLISHED-TTL:PT1H
BEGIN:VTIMEZONE
TZID:UTC
BEGIN:STANDARD
TZOFFSETFROM:+0000
TZOFFSETTO:+0000
TZNAME:UTC
DTSTART:20240101T000000
END:STANDARD
END:VTIMEZONE
BEGIN:VEVENT
DTSTART;TZID=UTC:20250530T170000
DTEND;TZID=UTC:20250530T220000
DTSTAMP:20260423T144106
CREATED:20250522T192538Z
LAST-MODIFIED:20250527T233635Z
UID:1685-1748624400-1748642400@www.thebullpendc.com
SUMMARY:Baby Weight\, Mimi Moss\, and Dean Sullivan
DESCRIPTION:Come celebrate the kick off to DC World Pride at The Bullpen on Friday\, May 30th with a free concert by Baby Weight\, Mimi Moss\, and Dean Sullivan – sponsored by Red Bull. \nFree Entry \n21+ only with valid ID \nYou do not need a ticket to enter.
URL:https://www.thebullpendc.com/weekly-schedule/baby-weight-mimi-moss-dean-sullivan/
LOCATION:The Bullpen\, 1201 Half St SE\, Washington\, DC\, 20003\, United States
CATEGORIES:Free Live Music
END:VEVENT
END:VCALENDAR