BEGIN:VCALENDAR
VERSION:2.0
PRODID:-//The Bullpen - ECPv6.15.20//NONSGML v1.0//EN
CALSCALE:GREGORIAN
METHOD:PUBLISH
X-ORIGINAL-URL:https://www.thebullpendc.com
X-WR-CALDESC:Events for The Bullpen
REFRESH-INTERVAL;VALUE=DURATION:PT1H
X-Robots-Tag:noindex
X-PUBLISHED-TTL:PT1H
BEGIN:VTIMEZONE
TZID:UTC
BEGIN:STANDARD
TZOFFSETFROM:+0000
TZOFFSETTO:+0000
TZNAME:UTC
DTSTART:20240101T000000
END:STANDARD
END:VTIMEZONE
BEGIN:VEVENT
DTSTART;TZID=UTC:20250607T130000
DTEND;TZID=UTC:20250607T220000
DTSTAMP:20260423T142705
CREATED:20250210T164107Z
LAST-MODIFIED:20250210T164107Z
UID:1300-1749301200-1749333600@www.thebullpendc.com
SUMMARY:Nationals Vs. Rangers / Gates 1:00pm
DESCRIPTION:Join us for another season of baseball\, brews\, and bands at The Bullpen! \n\nGates open at 1:00pm\nGame starts at 4:05pm\n\n— \nThis season\, The Bullpen continues to be the ultimate go-to destination for Nationals fans\, live music lovers\, and those looking to enjoy the best outdoor atmosphere in the city.  \nVisitors can look forward to an exciting lineup of offerings\, including: \n\nUpcoming country concerts and tribute band performances\nHome Game Happy Hour: $6 beers $7 cocktails from the top of the 3rd to bottom of 7th inning\nPre and post home game concerts featuring various DMV artists\nSurfside Food Truck with your favorite tacos\, quesadillas\, and burritos\n\nCheck our Instagram @thebullpendc for door times and event announcements. \n\nTo learn more about reserving our private dugouts and patios during Nationals’ games and concerts\, please contact Kayla Smith by emailing kayla@georgetownevents.com or calling (771) 241-3618. \nSee you there!
URL:https://www.thebullpendc.com/weekly-schedule/nationals-vs-rangers-06-07-25/
LOCATION:The Bullpen\, 1201 Half Street Southeast\, Washington\, D.C.\, DC\, 20003\, United States
CATEGORIES:Nationals Games
END:VEVENT
BEGIN:VEVENT
DTSTART;TZID=UTC:20250607T140000
DTEND;TZID=UTC:20250607T160000
DTSTAMP:20260423T142705
CREATED:20250513T135511Z
LAST-MODIFIED:20250513T135511Z
UID:1636-1749304800-1749312000@www.thebullpendc.com
SUMMARY:Live Music: Rock Creek Kings @ The Bullpen
DESCRIPTION:Come join us for live music before The Nats game! \nCheck out the band: www.rockcreekkings.com \n 
URL:https://www.thebullpendc.com/weekly-schedule/live-music-rock-creek-kings-the-bullpen-4/
LOCATION:The Bullpen\, 1201 Half St SE\, Washington\, DC\, 20003\, United States
END:VEVENT
BEGIN:VEVENT
DTSTART;TZID=UTC:20250607T184500
DTEND;TZID=UTC:20250607T204500
DTSTAMP:20260423T142705
CREATED:20250513T135716Z
LAST-MODIFIED:20250513T135716Z
UID:1638-1749321900-1749329100@www.thebullpendc.com
SUMMARY:Live Music: DCeivers @ The Bullpen
DESCRIPTION:Join us for live music after The Nats game! \nCheck out the band: seanchyun.com/dceivers
URL:https://www.thebullpendc.com/weekly-schedule/live-music-dceivers-the-bullpen-2/
LOCATION:The Bullpen\, 1201 Half St SE\, Washington\, DC\, 20003\, United States
CATEGORIES:Free Live Music
END:VEVENT
END:VCALENDAR