BEGIN:VCALENDAR
VERSION:2.0
PRODID:-//The Bullpen - ECPv6.15.20//NONSGML v1.0//EN
CALSCALE:GREGORIAN
METHOD:PUBLISH
X-WR-CALNAME:The Bullpen
X-ORIGINAL-URL:https://www.thebullpendc.com
X-WR-CALDESC:Events for The Bullpen
REFRESH-INTERVAL;VALUE=DURATION:PT1H
X-Robots-Tag:noindex
X-PUBLISHED-TTL:PT1H
BEGIN:VTIMEZONE
TZID:UTC
BEGIN:STANDARD
TZOFFSETFROM:+0000
TZOFFSETTO:+0000
TZNAME:UTC
DTSTART:20240101T000000
END:STANDARD
END:VTIMEZONE
BEGIN:VEVENT
DTSTART;TZID=UTC:20250628T160000
DTEND;TZID=UTC:20250628T220000
DTSTAMP:20260423T144105
CREATED:20250624T163406Z
LAST-MODIFIED:20250624T163442Z
UID:1711-1751126400-1751148000@www.thebullpendc.com
SUMMARY:Savannah Bananas at Nats Park / Gates 4:00pm
DESCRIPTION:Heading to Nats Park for the Savannah Bananas? Stop by The Bullpen to pre-game and post-game! \nGates at 4:00pm
URL:https://www.thebullpendc.com/weekly-schedule/savannah-bananas-at-nats-park-june-28/
LOCATION:The Bullpen\, 1201 Half St SE\, Washington\, DC\, 20003\, United States
ORGANIZER;CN="The Bullpen":MAILTO:info@thebullpendc.com
END:VEVENT
END:VCALENDAR