BEGIN:VCALENDAR
VERSION:2.0
PRODID:-//The Bullpen - ECPv6.15.20//NONSGML v1.0//EN
CALSCALE:GREGORIAN
METHOD:PUBLISH
X-WR-CALNAME:The Bullpen
X-ORIGINAL-URL:https://www.thebullpendc.com
X-WR-CALDESC:Events for The Bullpen
REFRESH-INTERVAL;VALUE=DURATION:PT1H
X-Robots-Tag:noindex
X-PUBLISHED-TTL:PT1H
BEGIN:VTIMEZONE
TZID:UTC
BEGIN:STANDARD
TZOFFSETFROM:+0000
TZOFFSETTO:+0000
TZNAME:UTC
DTSTART:20240101T000000
END:STANDARD
END:VTIMEZONE
BEGIN:VEVENT
DTSTART;TZID=UTC:20250717T170000
DTEND;TZID=UTC:20250717T213000
DTSTAMP:20260423T130641
CREATED:20250321T120020Z
LAST-MODIFIED:20250624T191053Z
UID:1489-1752771600-1752787800@www.thebullpendc.com
SUMMARY:The Joshua Tree: U2 Tribute Band
DESCRIPTION:U2 Fans Unite – The Joshua Tree Live in Concert! \nStep into the sound of U2’s legacy with The Joshua Tree\, the nation’s premier U2 tribute band\, performing live at The Bullpen. Cold drinks\, summer air\, and DC’s best outdoor concert venue. \nGet ready for a powerful night of epic guitar riffs\, soaring vocals\, and the unforgettable spirit of U2’s greatest hits — all performed with the passion and authenticity only The Joshua Tree can deliver. \n🎶 Expect all the classics: \n\n“Where the Streets Have No Name”\n“Beautiful Day”\n“One”\n“I Still Haven’t Found What I’m Looking For”\n…and many more.\n\nGates at 5PM – come early and enjoy $6 cans and $7 cocktails at the main bar from 5-7pm to get the party started! \nFrom cold beer to espresso martinis and everything in between – enjoy our full selection of delicious drinks! \nHungry? Enjoy hotdogs and brats from the grill! \nGrab your tickets now and gear up for an unforgettable night! \nThe Bullpen Summer Concerts: \n\nLive music from national touring acts\nMultiple outdoor bars\nAcross the street from Navy Yard-Ballpark Metro\n\nGet more details and tickets on Eventbrite
URL:https://www.thebullpendc.com/weekly-schedule/the-joshua-tree-u2-tribute-band/
LOCATION:The Bullpen\, 1201 Half St SE\, Washington\, DC\, 20003\, United States
CATEGORIES:Concerts,Free Live Music
ATTACH;FMTTYPE=image/png:https://www.thebullpendc.com/wp-content/uploads/2025/03/The-Joshua-Tree.png
ORGANIZER;CN="The Bullpen":MAILTO:info@thebullpendc.com
END:VEVENT
END:VCALENDAR