BEGIN:VCALENDAR
VERSION:2.0
PRODID:-//The Bullpen - ECPv6.15.20//NONSGML v1.0//EN
CALSCALE:GREGORIAN
METHOD:PUBLISH
X-ORIGINAL-URL:https://www.thebullpendc.com
X-WR-CALDESC:Events for The Bullpen
REFRESH-INTERVAL;VALUE=DURATION:PT1H
X-Robots-Tag:noindex
X-PUBLISHED-TTL:PT1H
BEGIN:VTIMEZONE
TZID:UTC
BEGIN:STANDARD
TZOFFSETFROM:+0000
TZOFFSETTO:+0000
TZNAME:UTC
DTSTART:20240101T000000
END:STANDARD
END:VTIMEZONE
BEGIN:VEVENT
DTSTART;TZID=UTC:20250719T103000
DTEND;TZID=UTC:20250719T170000
DTSTAMP:20260423T130830
CREATED:20250624T184319Z
LAST-MODIFIED:20250624T184319Z
UID:1713-1752921000-1752944400@www.thebullpendc.com
SUMMARY:Lunge x Madds Run & Rave
DESCRIPTION:Join Lunge for a 5K run or 1.5-mile hot walk\, followed by an awesome DJ set by Madds. \nThe Run \nThe run will begin promptly at 11:00am so please arrive by 10:30am so you can find your pace group (pace groups will vary between 8 min/mile-10:30 min/mile+). The run will start and end at The Bullpen. Hot walking option is also available and will finish at the same time as the runners. \nThe Afters \nRun and finish at the rooftop party for drinks and vibes. Plus\, awesome vendors\, wellness brands\, food\, and more. Grab a drink\, and get ready to rage! \nRemember\, singles wear all black*.* \nTHIS IS A RAIN OR SHINE EVENT – NO REFUNDS \n\n\n\n\n\n\nGET TICKETS
URL:https://www.thebullpendc.com/weekly-schedule/lunge-x-madds-run-rave/
LOCATION:The Bullpen\, 1201 Half St SE\, Washington\, DC\, 20003\, United States
CATEGORIES:Events
END:VEVENT
BEGIN:VEVENT
DTSTART;TZID=UTC:20250719T160000
DTEND;TZID=UTC:20250719T220000
DTSTAMP:20260423T130830
CREATED:20250210T170130Z
LAST-MODIFIED:20250210T170130Z
UID:1332-1752940800-1752962400@www.thebullpendc.com
SUMMARY:Nationals Vs. Padres / Gates 4:00pm
DESCRIPTION:Join us for another season of baseball\, brews\, and bands at The Bullpen! \n\nGates open at 4:00pm\nGame starts at 6:45pm\n\n— \nThis season\, The Bullpen continues to be the ultimate go-to destination for Nationals fans\, live music lovers\, and those looking to enjoy the best outdoor atmosphere in the city.  \nVisitors can look forward to an exciting lineup of offerings\, including: \n\nUpcoming country concerts and tribute band performances\nHome Game Happy Hour: $6 beers $7 cocktails from the top of the 3rd to bottom of 7th inning\nPre and post home game concerts featuring various DMV artists\nSurfside Food Truck with your favorite tacos\, quesadillas\, and burritos\n\nCheck our Instagram @thebullpendc for door times and event announcements. \n\nTo learn more about reserving our private dugouts and patios during Nationals’ games and concerts\, please contact Kayla Smith by emailing kayla@georgetownevents.com or calling (771) 241-3618. \nSee you there!
URL:https://www.thebullpendc.com/weekly-schedule/nationals-vs-padres-07-19-25/
LOCATION:The Bullpen\, 1201 Half Street Southeast\, Washington\, D.C.\, DC\, 20003\, United States
CATEGORIES:Nationals Games
END:VEVENT
BEGIN:VEVENT
DTSTART;TZID=UTC:20250719T204500
DTEND;TZID=UTC:20250719T220000
DTSTAMP:20260423T130830
CREATED:20250513T165848Z
LAST-MODIFIED:20250513T165848Z
UID:1675-1752957900-1752962400@www.thebullpendc.com
SUMMARY:Live Music: DCeivers @ The Bullpen
DESCRIPTION:Join us for live music after The Nats game! \nCheck out the band: seanchyun.com/dceivers
URL:https://www.thebullpendc.com/weekly-schedule/live-music-dceivers-the-bullpen-6/
LOCATION:The Bullpen\, 1201 Half St SE\, Washington\, DC\, 20003\, United States
CATEGORIES:Free Live Music
END:VEVENT
END:VCALENDAR