BEGIN:VCALENDAR
VERSION:2.0
PRODID:-//The Bullpen - ECPv6.15.20//NONSGML v1.0//EN
CALSCALE:GREGORIAN
METHOD:PUBLISH
X-ORIGINAL-URL:https://www.thebullpendc.com
X-WR-CALDESC:Events for The Bullpen
REFRESH-INTERVAL;VALUE=DURATION:PT1H
X-Robots-Tag:noindex
X-PUBLISHED-TTL:PT1H
BEGIN:VTIMEZONE
TZID:UTC
BEGIN:STANDARD
TZOFFSETFROM:+0000
TZOFFSETTO:+0000
TZNAME:UTC
DTSTART:20240101T000000
END:STANDARD
END:VTIMEZONE
BEGIN:VEVENT
DTSTART;TZID=UTC:20250724T170000
DTEND;TZID=UTC:20250724T213000
DTSTAMP:20260423T130818
CREATED:20250321T120042Z
LAST-MODIFIED:20250624T190944Z
UID:1478-1753376400-1753392600@www.thebullpendc.com
SUMMARY:Eli Young Band ft. Dalton & The Sheriffs
DESCRIPTION:Join us for a night of live music with country band\, Eli Young Band\, and guest artist Dalton & The Sheriffs\, on Thursday\, July 24th at The Bullpen! \nThe Bullpen is proud to welcome Eli Young Band back for the third year for a summer country concert you won’t want to miss! \nEli Young Band is an American country music band composed of members who met while students at the University of North Texas in Denton\, Texas: Mike Eli (lead vocals\, guitar)\, James Young (guitar)\, Jon Jones (bass guitar)\, and Chris Thompson (drums). The band has charted eight times on the Billboard country charts\, with four of their singles having reached No. 1: “Crazy Girl”\, which was the top country song of 2011 according to Billboard Year-End\, along with “Even If It Breaks Your Heart”\, “Drunk Last Night”\, and “Love Ain’t”. \nWith chart-topping hits like:\n🎶 “Even If It Breaks Your Heart”\n🎶 “Love Ain’t”\n🎶 “Crazy Girl”\n🎶 “Drunk Last Night” \nEli Young Band brings their signature blend of heartfelt lyrics and Texas roots straight to the stage. \nGates at 5PM – come early and enjoy $6 cans and $7 cocktails at the main bar from 5-7pm to get the party started! \nFrom cold beer to espresso martinis and everything in between – enjoy our full selection of delicious drinks! \nHungry? Enjoy hotdogs and brats from the grill! \nGrab your tickets now and gear up for an unforgettable night! \nThe Bullpen Summer Concerts: \n\nLive music from national touring acts\nMultiple outdoor bars\nAcross the street from Navy Yard-Ballpark Metro\n\nGet more details and tickets on Eventbrite!
URL:https://www.thebullpendc.com/weekly-schedule/eli-young-band-ft-dalton-the-sheriffs/
LOCATION:The Bullpen\, 1201 Half St SE\, Washington\, DC\, 20003\, United States
CATEGORIES:Concerts
ATTACH;FMTTYPE=image/jpeg:https://www.thebullpendc.com/wp-content/uploads/2025/03/EYB_1.jpg
ORGANIZER;CN="The Bullpen":MAILTO:info@thebullpendc.com
END:VEVENT
END:VCALENDAR