BEGIN:VCALENDAR
VERSION:2.0
PRODID:-//The Bullpen - ECPv6.15.20//NONSGML v1.0//EN
CALSCALE:GREGORIAN
METHOD:PUBLISH
X-ORIGINAL-URL:https://www.thebullpendc.com
X-WR-CALDESC:Events for The Bullpen
REFRESH-INTERVAL;VALUE=DURATION:PT1H
X-Robots-Tag:noindex
X-PUBLISHED-TTL:PT1H
BEGIN:VTIMEZONE
TZID:UTC
BEGIN:STANDARD
TZOFFSETFROM:+0000
TZOFFSETTO:+0000
TZNAME:UTC
DTSTART:20240101T000000
END:STANDARD
END:VTIMEZONE
BEGIN:VEVENT
DTSTART;TZID=UTC:20250725T180000
DTEND;TZID=UTC:20250725T220000
DTSTAMP:20260423T130829
CREATED:20250507T141530Z
LAST-MODIFIED:20250507T141530Z
UID:1587-1753466400-1753480800@www.thebullpendc.com
SUMMARY:White Ford Bronco @ The Bullpen
DESCRIPTION:We play the hits of the ’90s. You drink and frolic and such. \nDoors: 6pm \nShow time: 7pm \nPre-show: $22 eventbrite \nDay of: $25 cash at the door \nOther details: 21+. No refunds. No re-entry. Rain or shine. Dogs and kiddos are allowed with an accompanying adult. There will be food. \nClick here for tickets!
URL:https://www.thebullpendc.com/weekly-schedule/white-ford-bronco-the-bullpen-3/
LOCATION:The Bullpen\, 1201 Half St SE\, Washington\, DC\, 20003\, United States
CATEGORIES:Concerts
END:VEVENT
END:VCALENDAR