BEGIN:VCALENDAR
VERSION:2.0
PRODID:-//The Bullpen - ECPv6.15.20//NONSGML v1.0//EN
CALSCALE:GREGORIAN
METHOD:PUBLISH
X-ORIGINAL-URL:https://www.thebullpendc.com
X-WR-CALDESC:Events for The Bullpen
REFRESH-INTERVAL;VALUE=DURATION:PT1H
X-Robots-Tag:noindex
X-PUBLISHED-TTL:PT1H
BEGIN:VTIMEZONE
TZID:UTC
BEGIN:STANDARD
TZOFFSETFROM:+0000
TZOFFSETTO:+0000
TZNAME:UTC
DTSTART:20240101T000000
END:STANDARD
END:VTIMEZONE
BEGIN:VEVENT
DTSTART;TZID=UTC:20250731T170000
DTEND;TZID=UTC:20250731T213000
DTSTAMP:20260423T114851
CREATED:20250321T120027Z
LAST-MODIFIED:20250624T185453Z
UID:1492-1753981200-1753997400@www.thebullpendc.com
SUMMARY:The Springsteen Experience: Bruce Springsteen Tribute Band
DESCRIPTION:Experience your favorite Bruce Springsteen hits LIVE in concert at The Bullpen! \nGet ready for a night of American rock anthems and blue-collar soul as The Springsteen Experience takes the stage on Thursday\, July 31st. \nKnown for channeling the raw power and heartfelt storytelling of The Boss\, this tribute band delivers an unforgettable live show that captures every ounce of Bruce’s passion—from the legendary E Street Band sound to the sweat-soaked energy of a true Springsteen concert. \n🎶 Live renditions of classics like: \n\n“Born in the U.S.A.”\n“Thunder Road”\n“Glory Days”\n“Hungry Heart”\n“Dancing in the Dark”\n…and more!\n\nGates at 5PM – come early and enjoy $6 cans and $7 cocktails at the main bar from 5-7pm to get the party started! \nFrom cold beer to espresso martinis and everything in between – enjoy our full selection of delicious drinks! \nHungry? Enjoy hotdogs and brats from the grill! \nThe Bullpen Summer Concerts: \n\nLive music from national touring acts\nMultiple outdoor bars\nAcross the street from Navy Yard-Ballpark Metro\n\nGet more details and tickets on Eventbrite
URL:https://www.thebullpendc.com/weekly-schedule/the-springsteen-experience-bruce-springsteen-tribute-band/
LOCATION:The Bullpen\, 1201 Half St SE\, Washington\, DC\, 20003\, United States
CATEGORIES:Concerts,Free Live Music
ATTACH;FMTTYPE=image/png:https://www.thebullpendc.com/wp-content/uploads/2025/03/The-Springsteen-Experience-.png
ORGANIZER;CN="The Bullpen":MAILTO:info@thebullpendc.com
END:VEVENT
END:VCALENDAR