BEGIN:VCALENDAR
VERSION:2.0
PRODID:-//The Bullpen - ECPv6.15.20//NONSGML v1.0//EN
CALSCALE:GREGORIAN
METHOD:PUBLISH
X-WR-CALNAME:The Bullpen
X-ORIGINAL-URL:https://www.thebullpendc.com
X-WR-CALDESC:Events for The Bullpen
REFRESH-INTERVAL;VALUE=DURATION:PT1H
X-Robots-Tag:noindex
X-PUBLISHED-TTL:PT1H
BEGIN:VTIMEZONE
TZID:UTC
BEGIN:STANDARD
TZOFFSETFROM:+0000
TZOFFSETTO:+0000
TZNAME:UTC
DTSTART:20240101T000000
END:STANDARD
END:VTIMEZONE
BEGIN:VEVENT
DTSTART;TZID=UTC:20250911T170000
DTEND;TZID=UTC:20250911T220000
DTSTAMP:20260423T101119
CREATED:20250507T172707Z
LAST-MODIFIED:20250624T193844Z
UID:1590-1757610000-1757628000@www.thebullpendc.com
SUMMARY:Kip Moore
DESCRIPTION:Join us for a night of live music with country singer Kip Moore on September 11th at The Bullpen! \nWith chart-topping hits like:\n🎶 “Even If It Breaks Your Heart”\n🎶 “Hey Pretty Girl”\n🎶 “Beer Money”\n🎶 “She’s Mine” \nHailed as “an uncompromising\, genre-defying artist firing on all cylinders” (Vice/Noisey) and “one of country’s more thoughtful artists” (Billboard)\, multi-platinum singer/songwriter Kip Moore has blazed his own trail and earned his place as one of music’s most beloved artists. With over 1 billion streams and 2.5 million monthly listeners\, Moore has released five critically acclaimed albums and penned over a dozen chart-topping singles\, including hits “Something’ ‘Bout a Truck\,” “Hey Pretty Girl\,” “Beer Money\,” and “More Girls Like You.” A truly remarkable performer and “one of country music’s most tireless and powerful live draws” (Rolling Stone)\, Moore is renowned for his signature sound playing blistering live shows in stadiums\, arenas\, and theaters around the globe. With the announcement of his new album Solitary Tracks\, Moore is poised for a monumental year as the steadfast road-warrior gears up to bring his new songs worldwide. \n– \nGates at 5PM – come early and enjoy $6 cans and $7 cocktails at the main bar from 5-7pm to get the party started! \nFrom cold beer to espresso martinis and everything in between – enjoy our full selection of delicious drinks! \nHungry? Enjoy hotdogs and brats from the grill! \nGrab your tickets now and gear up for an unforgettable night! \nThe Bullpen Summer Concerts: \n\nLive music from national touring acts\nMultiple outdoor bars\nAcross the street from Navy Yard-Ballpark Metro\n\nGET TICKETS
URL:https://www.thebullpendc.com/weekly-schedule/kip-moore/
LOCATION:The Bullpen\, 1201 Half St SE\, Washington\, DC\, 20003\, United States
CATEGORIES:Concerts
ATTACH;FMTTYPE=image/png:https://www.thebullpendc.com/wp-content/uploads/2025/05/2.png
END:VEVENT
END:VCALENDAR