BEGIN:VCALENDAR
VERSION:2.0
PRODID:-//The Bullpen - ECPv6.15.20//NONSGML v1.0//EN
CALSCALE:GREGORIAN
METHOD:PUBLISH
X-WR-CALNAME:The Bullpen
X-ORIGINAL-URL:https://www.thebullpendc.com
X-WR-CALDESC:Events for The Bullpen
REFRESH-INTERVAL;VALUE=DURATION:PT1H
X-Robots-Tag:noindex
X-PUBLISHED-TTL:PT1H
BEGIN:VTIMEZONE
TZID:UTC
BEGIN:STANDARD
TZOFFSETFROM:+0000
TZOFFSETTO:+0000
TZNAME:UTC
DTSTART:20240101T000000
END:STANDARD
END:VTIMEZONE
BEGIN:VEVENT
DTSTART;TZID=UTC:20250801T160000
DTEND;TZID=UTC:20250801T220000
DTSTAMP:20260423T101158
CREATED:20250210T170718Z
LAST-MODIFIED:20250210T170718Z
UID:1342-1754064000-1754085600@www.thebullpendc.com
SUMMARY:Nationals Vs. Brewers / Gates 4:00pm
DESCRIPTION:Join us for another season of baseball\, brews\, and bands at The Bullpen! \n\nGates open at 4:00pm\nGame starts at 6:45pm\n\n— \nThis season\, The Bullpen continues to be the ultimate go-to destination for Nationals fans\, live music lovers\, and those looking to enjoy the best outdoor atmosphere in the city.  \nVisitors can look forward to an exciting lineup of offerings\, including: \n\nUpcoming country concerts and tribute band performances\nHome Game Happy Hour: $6 beers $7 cocktails from the top of the 3rd to bottom of 7th inning\nPre and post home game concerts featuring various DMV artists\nSurfside Food Truck with your favorite tacos\, quesadillas\, and burritos\n\nCheck our Instagram @thebullpendc for door times and event announcements. \n\nTo learn more about reserving our private dugouts and patios during Nationals’ games and concerts\, please contact Kayla Smith by emailing kayla@georgetownevents.com or calling (771) 241-3618. \nSee you there!
URL:https://www.thebullpendc.com/weekly-schedule/nationals-vs-brewers-08-01-25/
LOCATION:The Bullpen\, 1201 Half Street Southeast\, Washington\, D.C.\, DC\, 20003\, United States
CATEGORIES:Nationals Games
END:VEVENT
BEGIN:VEVENT
DTSTART;TZID=UTC:20250802T130000
DTEND;TZID=UTC:20250802T220000
DTSTAMP:20260423T101158
CREATED:20250210T170820Z
LAST-MODIFIED:20250210T170820Z
UID:1344-1754139600-1754172000@www.thebullpendc.com
SUMMARY:Nationals Vs. Brewers / Gates 1:00pm
DESCRIPTION:Join us for another season of baseball\, brews\, and bands at The Bullpen! \n\nGates open at 1:00pm\nGame starts at 4:05pm\n\n— \nThis season\, The Bullpen continues to be the ultimate go-to destination for Nationals fans\, live music lovers\, and those looking to enjoy the best outdoor atmosphere in the city.  \nVisitors can look forward to an exciting lineup of offerings\, including: \n\nUpcoming country concerts and tribute band performances\nHome Game Happy Hour: $6 beers $7 cocktails from the top of the 3rd to bottom of 7th inning\nPre and post home game concerts featuring various DMV artists\nSurfside Food Truck with your favorite tacos\, quesadillas\, and burritos\n\nCheck our Instagram @thebullpendc for door times and event announcements. \n\nTo learn more about reserving our private dugouts and patios during Nationals’ games and concerts\, please contact Kayla Smith by emailing kayla@georgetownevents.com or calling (771) 241-3618. \nSee you there!
URL:https://www.thebullpendc.com/weekly-schedule/nationals-vs-brewers-08-02-25/
LOCATION:The Bullpen\, 1201 Half Street Southeast\, Washington\, D.C.\, DC\, 20003\, United States
CATEGORIES:Nationals Games
END:VEVENT
BEGIN:VEVENT
DTSTART;TZID=UTC:20250803T110000
DTEND;TZID=UTC:20250803T220000
DTSTAMP:20260423T101158
CREATED:20250210T171027Z
LAST-MODIFIED:20250210T171027Z
UID:1348-1754218800-1754258400@www.thebullpendc.com
SUMMARY:Nationals Vs. Brewers / Gates 11:00am
DESCRIPTION:Join us for another season of baseball\, brews\, and bands at The Bullpen! \n\nGates open at 11:00am\nGame starts at 1:35pm \n\n— \nThis season\, The Bullpen continues to be the ultimate go-to destination for Nationals fans\, live music lovers\, and those looking to enjoy the best outdoor atmosphere in the city.  \nVisitors can look forward to an exciting lineup of offerings\, including: \n\nUpcoming country concerts and tribute band performances\nHome Game Happy Hour: $6 beers $7 cocktails from the top of the 3rd to bottom of 7th inning\nPre and post home game concerts featuring various DMV artists\nSurfside Food Truck with your favorite tacos\, quesadillas\, and burritos\n\nCheck our Instagram @thebullpendc for door times and event announcements. \n\nTo learn more about reserving our private dugouts and patios during Nationals’ games and concerts\, please contact Kayla Smith by emailing kayla@georgetownevents.com or calling (771) 241-3618. \nSee you there!
URL:https://www.thebullpendc.com/weekly-schedule/nationals-vs-brewers-08-03-25/
LOCATION:The Bullpen\, 1201 Half Street Southeast\, Washington\, D.C.\, DC\, 20003\, United States
CATEGORIES:Nationals Games
END:VEVENT
BEGIN:VEVENT
DTSTART;TZID=UTC:20250805T160000
DTEND;TZID=UTC:20250805T220000
DTSTAMP:20260423T101159
CREATED:20250210T171251Z
LAST-MODIFIED:20250210T171251Z
UID:1352-1754409600-1754431200@www.thebullpendc.com
SUMMARY:Nationals Vs. A's / Gates 4:00pm
DESCRIPTION:Join us for another season of baseball\, brews\, and bands at The Bullpen! \n\nGates open at 4:00pm\nGame starts at 6:45pm\n\n— \nThis season\, The Bullpen continues to be the ultimate go-to destination for Nationals fans\, live music lovers\, and those looking to enjoy the best outdoor atmosphere in the city.  \nVisitors can look forward to an exciting lineup of offerings\, including: \n\nUpcoming country concerts and tribute band performances\nHome Game Happy Hour: $6 beers $7 cocktails from the top of the 3rd to bottom of 7th inning\nPre and post home game concerts featuring various DMV artists\nSurfside Food Truck with your favorite tacos\, quesadillas\, and burritos\n\nCheck our Instagram @thebullpendc for door times and event announcements. \n\nTo learn more about reserving our private dugouts and patios during Nationals’ games and concerts\, please contact Kayla Smith by emailing kayla@georgetownevents.com or calling (771) 241-3618. \nSee you there!
URL:https://www.thebullpendc.com/weekly-schedule/nationals-vs-as-08-05-25/
LOCATION:The Bullpen\, 1201 Half Street Southeast\, Washington\, D.C.\, DC\, 20003\, United States
CATEGORIES:Nationals Games
END:VEVENT
BEGIN:VEVENT
DTSTART;TZID=UTC:20250806T160000
DTEND;TZID=UTC:20250806T220000
DTSTAMP:20260423T101159
CREATED:20250210T171527Z
LAST-MODIFIED:20250210T171527Z
UID:1354-1754496000-1754517600@www.thebullpendc.com
SUMMARY:Nationals Vs. A's / Gates 4:00pm
DESCRIPTION:Join us for another season of baseball\, brews\, and bands at The Bullpen! \n\nGates open at 4:00pm\nGame starts at 6:45pm\n\n— \nThis season\, The Bullpen continues to be the ultimate go-to destination for Nationals fans\, live music lovers\, and those looking to enjoy the best outdoor atmosphere in the city.  \nVisitors can look forward to an exciting lineup of offerings\, including: \n\nUpcoming country concerts and tribute band performances\nHome Game Happy Hour: $6 beers $7 cocktails from the top of the 3rd to bottom of 7th inning\nPre and post home game concerts featuring various DMV artists\nSurfside Food Truck with your favorite tacos\, quesadillas\, and burritos\n\nCheck our Instagram @thebullpendc for door times and event announcements. \n\nTo learn more about reserving our private dugouts and patios during Nationals’ games and concerts\, please contact Kayla Smith by emailing kayla@georgetownevents.com or calling (771) 241-3618. \nSee you there!
URL:https://www.thebullpendc.com/weekly-schedule/nationals-vs-as-08-06-25/
LOCATION:The Bullpen\, 1201 Half Street Southeast\, Washington\, D.C.\, DC\, 20003\, United States
CATEGORIES:Nationals Games
END:VEVENT
BEGIN:VEVENT
DTSTART;TZID=UTC:20250807T110000
DTEND;TZID=UTC:20250807T220000
DTSTAMP:20260423T101159
CREATED:20250210T171614Z
LAST-MODIFIED:20250210T171614Z
UID:1356-1754564400-1754604000@www.thebullpendc.com
SUMMARY:Nationals Vs. A's / Gates 11:00am
DESCRIPTION:Join us for another season of baseball\, brews\, and bands at The Bullpen! \n\nGates open at 11:00am\nGame starts at 12:05pm\n\n— \nThis season\, The Bullpen continues to be the ultimate go-to destination for Nationals fans\, live music lovers\, and those looking to enjoy the best outdoor atmosphere in the city.  \nVisitors can look forward to an exciting lineup of offerings\, including: \n\nUpcoming country concerts and tribute band performances\nHome Game Happy Hour: $6 beers $7 cocktails from the top of the 3rd to bottom of 7th inning\nPre and post home game concerts featuring various DMV artists\nSurfside Food Truck with your favorite tacos\, quesadillas\, and burritos\n\nCheck our Instagram @thebullpendc for door times and event announcements. \n\nTo learn more about reserving our private dugouts and patios during Nationals’ games and concerts\, please contact Kayla Smith by emailing kayla@georgetownevents.com or calling (771) 241-3618. \nSee you there!
URL:https://www.thebullpendc.com/weekly-schedule/nationals-vs-as-08-07-25/
LOCATION:The Bullpen\, 1201 Half Street Southeast\, Washington\, D.C.\, DC\, 20003\, United States
CATEGORIES:Nationals Games
END:VEVENT
BEGIN:VEVENT
DTSTART;TZID=UTC:20250814T160000
DTEND;TZID=UTC:20250814T220000
DTSTAMP:20260423T101159
CREATED:20250210T171932Z
LAST-MODIFIED:20250210T171932Z
UID:1358-1755187200-1755208800@www.thebullpendc.com
SUMMARY:Nationals Vs. Phillies / Gates 4:00pm
DESCRIPTION:Join us for another season of baseball\, brews\, and bands at The Bullpen! \n\nGates open at 4:00pm\nGame starts at 6:45pm\n\n— \nThis season\, The Bullpen continues to be the ultimate go-to destination for Nationals fans\, live music lovers\, and those looking to enjoy the best outdoor atmosphere in the city.  \nVisitors can look forward to an exciting lineup of offerings\, including: \n\nUpcoming country concerts and tribute band performances\nHome Game Happy Hour: $6 beers $7 cocktails from the top of the 3rd to bottom of 7th inning\nPre and post home game concerts featuring various DMV artists\nSurfside Food Truck with your favorite tacos\, quesadillas\, and burritos\n\nCheck our Instagram @thebullpendc for door times and event announcements. \n\nTo learn more about reserving our private dugouts and patios during Nationals’ games and concerts\, please contact Kayla Smith by emailing kayla@georgetownevents.com or calling (771) 241-3618. \nSee you there!
URL:https://www.thebullpendc.com/weekly-schedule/nationals-vs-phillies-08-14-25/
LOCATION:The Bullpen\, 1201 Half Street Southeast\, Washington\, D.C.\, DC\, 20003\, United States
CATEGORIES:Nationals Games
END:VEVENT
BEGIN:VEVENT
DTSTART;TZID=UTC:20250815T160000
DTEND;TZID=UTC:20250815T220000
DTSTAMP:20260423T101159
CREATED:20250210T172001Z
LAST-MODIFIED:20250210T172001Z
UID:1360-1755273600-1755295200@www.thebullpendc.com
SUMMARY:Nationals Vs. Phillies / Gates 4:00pm
DESCRIPTION:Join us for another season of baseball\, brews\, and bands at The Bullpen! \n\nGates open at 4:00pm\nGame starts at 6:45pm\n\n— \nThis season\, The Bullpen continues to be the ultimate go-to destination for Nationals fans\, live music lovers\, and those looking to enjoy the best outdoor atmosphere in the city.  \nVisitors can look forward to an exciting lineup of offerings\, including: \n\nUpcoming country concerts and tribute band performances\nHome Game Happy Hour: $6 beers $7 cocktails from the top of the 3rd to bottom of 7th inning\nPre and post home game concerts featuring various DMV artists\nSurfside Food Truck with your favorite tacos\, quesadillas\, and burritos\n\nCheck our Instagram @thebullpendc for door times and event announcements. \n\nTo learn more about reserving our private dugouts and patios during Nationals’ games and concerts\, please contact Kayla Smith by emailing kayla@georgetownevents.com or calling (771) 241-3618. \nSee you there!
URL:https://www.thebullpendc.com/weekly-schedule/nationals-vs-phillies-08-15-25/
LOCATION:The Bullpen\, 1201 Half Street Southeast\, Washington\, D.C.\, DC\, 20003\, United States
CATEGORIES:Nationals Games
END:VEVENT
BEGIN:VEVENT
DTSTART;TZID=UTC:20250816T130000
DTEND;TZID=UTC:20250816T220000
DTSTAMP:20260423T101159
CREATED:20250210T172104Z
LAST-MODIFIED:20250210T172104Z
UID:1362-1755349200-1755381600@www.thebullpendc.com
SUMMARY:Nationals Vs. Phillies / Gates 1:00pm
DESCRIPTION:Join us for another season of baseball\, brews\, and bands at The Bullpen! \n\nGates open at 1:00pm\nGame starts at 4:05pm\n\n— \nThis season\, The Bullpen continues to be the ultimate go-to destination for Nationals fans\, live music lovers\, and those looking to enjoy the best outdoor atmosphere in the city.  \nVisitors can look forward to an exciting lineup of offerings\, including: \n\nUpcoming country concerts and tribute band performances\nHome Game Happy Hour: $6 beers $7 cocktails from the top of the 3rd to bottom of 7th inning\nPre and post home game concerts featuring various DMV artists\nSurfside Food Truck with your favorite tacos\, quesadillas\, and burritos\n\nCheck our Instagram @thebullpendc for door times and event announcements. \n\nTo learn more about reserving our private dugouts and patios during Nationals’ games and concerts\, please contact Kayla Smith by emailing kayla@georgetownevents.com or calling (771) 241-3618. \nSee you there!
URL:https://www.thebullpendc.com/weekly-schedule/nationals-vs-phillies-08-16-25/
LOCATION:The Bullpen\, 1201 Half Street Southeast\, Washington\, D.C.\, DC\, 20003\, United States
CATEGORIES:Nationals Games
END:VEVENT
BEGIN:VEVENT
DTSTART;TZID=UTC:20250817T110000
DTEND;TZID=UTC:20250817T220000
DTSTAMP:20260423T101159
CREATED:20250210T172313Z
LAST-MODIFIED:20250210T172313Z
UID:1364-1755428400-1755468000@www.thebullpendc.com
SUMMARY:Nationals Vs. Phillies / Gates 11:00am
DESCRIPTION:Join us for another season of baseball\, brews\, and bands at The Bullpen! \n\nGates open at 11:00am \nGame starts at 1:35pm\n\n— \nThis season\, The Bullpen continues to be the ultimate go-to destination for Nationals fans\, live music lovers\, and those looking to enjoy the best outdoor atmosphere in the city.  \nVisitors can look forward to an exciting lineup of offerings\, including: \n\nUpcoming country concerts and tribute band performances\nHome Game Happy Hour: $6 beers $7 cocktails from the top of the 3rd to bottom of 7th inning\nPre and post home game concerts featuring various DMV artists\nSurfside Food Truck with your favorite tacos\, quesadillas\, and burritos\n\nCheck our Instagram @thebullpendc for door times and event announcements. \n\nTo learn more about reserving our private dugouts and patios during Nationals’ games and concerts\, please contact Kayla Smith by emailing kayla@georgetownevents.com or calling (771) 241-3618. \nSee you there!
URL:https://www.thebullpendc.com/weekly-schedule/nationals-vs-phillies-08-17-25/
LOCATION:The Bullpen\, 1201 Half Street Southeast\, Washington\, D.C.\, DC\, 20003\, United States
CATEGORIES:Nationals Games
END:VEVENT
BEGIN:VEVENT
DTSTART;TZID=UTC:20250819T160000
DTEND;TZID=UTC:20250819T220000
DTSTAMP:20260423T101159
CREATED:20250210T172414Z
LAST-MODIFIED:20250210T172414Z
UID:1366-1755619200-1755640800@www.thebullpendc.com
SUMMARY:Nationals Vs. Mets / Gates 4:00pm
DESCRIPTION:Join us for another season of baseball\, brews\, and bands at The Bullpen! \n\nGates open at 4:00pm\nGame starts at 6:45pm\n\n— \nThis season\, The Bullpen continues to be the ultimate go-to destination for Nationals fans\, live music lovers\, and those looking to enjoy the best outdoor atmosphere in the city.  \nVisitors can look forward to an exciting lineup of offerings\, including: \n\nUpcoming country concerts and tribute band performances\nHome Game Happy Hour: $6 beers $7 cocktails from the top of the 3rd to bottom of 7th inning\nPre and post home game concerts featuring various DMV artists\nSurfside Food Truck with your favorite tacos\, quesadillas\, and burritos\n\nCheck our Instagram @thebullpendc for door times and event announcements. \n\nTo learn more about reserving our private dugouts and patios during Nationals’ games and concerts\, please contact Kayla Smith by emailing kayla@georgetownevents.com or calling (771) 241-3618. \nSee you there!
URL:https://www.thebullpendc.com/weekly-schedule/nationals-vs-mets-08-19-25/
LOCATION:The Bullpen\, 1201 Half Street Southeast\, Washington\, D.C.\, DC\, 20003\, United States
CATEGORIES:Nationals Games
END:VEVENT
BEGIN:VEVENT
DTSTART;TZID=UTC:20250820T160000
DTEND;TZID=UTC:20250820T220000
DTSTAMP:20260423T101159
CREATED:20250210T172451Z
LAST-MODIFIED:20250210T172451Z
UID:1368-1755705600-1755727200@www.thebullpendc.com
SUMMARY:Nationals Vs. Mets / Gates 4:00pm
DESCRIPTION:Join us for another season of baseball\, brews\, and bands at The Bullpen! \n\nGates open at 4:00pm\nGame starts at 6:45pm\n\n— \nThis season\, The Bullpen continues to be the ultimate go-to destination for Nationals fans\, live music lovers\, and those looking to enjoy the best outdoor atmosphere in the city.  \nVisitors can look forward to an exciting lineup of offerings\, including: \n\nUpcoming country concerts and tribute band performances\nHome Game Happy Hour: $6 beers $7 cocktails from the top of the 3rd to bottom of 7th inning\nPre and post home game concerts featuring various DMV artists\nSurfside Food Truck with your favorite tacos\, quesadillas\, and burritos\n\nCheck our Instagram @thebullpendc for door times and event announcements. \n\nTo learn more about reserving our private dugouts and patios during Nationals’ games and concerts\, please contact Kayla Smith by emailing kayla@georgetownevents.com or calling (771) 241-3618. \nSee you there!
URL:https://www.thebullpendc.com/weekly-schedule/nationals-vs-mets-08-20-25/
LOCATION:The Bullpen\, 1201 Half Street Southeast\, Washington\, D.C.\, DC\, 20003\, United States
CATEGORIES:Nationals Games
END:VEVENT
BEGIN:VEVENT
DTSTART;TZID=UTC:20250821T140000
DTEND;TZID=UTC:20250821T220000
DTSTAMP:20260423T101159
CREATED:20250210T172532Z
LAST-MODIFIED:20250210T172532Z
UID:1370-1755784800-1755813600@www.thebullpendc.com
SUMMARY:Nationals Vs. Mets / Gates 2:00pm
DESCRIPTION:Join us for another season of baseball\, brews\, and bands at The Bullpen! \n\nGates open at 2:00pm\nGame starts at 4:05pm\n\n— \nThis season\, The Bullpen continues to be the ultimate go-to destination for Nationals fans\, live music lovers\, and those looking to enjoy the best outdoor atmosphere in the city.  \nVisitors can look forward to an exciting lineup of offerings\, including: \n\nUpcoming country concerts and tribute band performances\nHome Game Happy Hour: $6 beers $7 cocktails from the top of the 3rd to bottom of 7th inning\nPre and post home game concerts featuring various DMV artists\nSurfside Food Truck with your favorite tacos\, quesadillas\, and burritos\n\nCheck our Instagram @thebullpendc for door times and event announcements. \n\nTo learn more about reserving our private dugouts and patios during Nationals’ games and concerts\, please contact Kayla Smith by emailing kayla@georgetownevents.com or calling (771) 241-3618. \nSee you there!
URL:https://www.thebullpendc.com/weekly-schedule/nationals-vs-mets-08-21-25/
LOCATION:The Bullpen\, 1201 Half Street Southeast\, Washington\, D.C.\, DC\, 20003\, United States
CATEGORIES:Nationals Games
END:VEVENT
BEGIN:VEVENT
DTSTART;TZID=UTC:20250829T160000
DTEND;TZID=UTC:20250829T220000
DTSTAMP:20260423T101159
CREATED:20250210T172638Z
LAST-MODIFIED:20250210T172638Z
UID:1372-1756483200-1756504800@www.thebullpendc.com
SUMMARY:Nationals Vs. Rays / Gates 4:00pm
DESCRIPTION:Join us for another season of baseball\, brews\, and bands at The Bullpen! \n\nGates open at 4:00pm\nGame starts at 6:45pm\n\n— \nThis season\, The Bullpen continues to be the ultimate go-to destination for Nationals fans\, live music lovers\, and those looking to enjoy the best outdoor atmosphere in the city.  \nVisitors can look forward to an exciting lineup of offerings\, including: \n\nUpcoming country concerts and tribute band performances\nHome Game Happy Hour: $6 beers $7 cocktails from the top of the 3rd to bottom of 7th inning\nPre and post home game concerts featuring various DMV artists\nSurfside Food Truck with your favorite tacos\, quesadillas\, and burritos\n\nCheck our Instagram @thebullpendc for door times and event announcements. \n\nTo learn more about reserving our private dugouts and patios during Nationals’ games and concerts\, please contact Kayla Smith by emailing kayla@georgetownevents.com or calling (771) 241-3618. \nSee you there!
URL:https://www.thebullpendc.com/weekly-schedule/nationals-vs-rays-08-29-25/
LOCATION:The Bullpen\, 1201 Half Street Southeast\, Washington\, D.C.\, DC\, 20003\, United States
CATEGORIES:Nationals Games
END:VEVENT
BEGIN:VEVENT
DTSTART;TZID=UTC:20250830T130000
DTEND;TZID=UTC:20250830T220000
DTSTAMP:20260423T101159
CREATED:20250210T172737Z
LAST-MODIFIED:20250210T172737Z
UID:1374-1756558800-1756591200@www.thebullpendc.com
SUMMARY:Nationals Vs. Rays / Gates 1:00pm
DESCRIPTION:Join us for another season of baseball\, brews\, and bands at The Bullpen! \n\nGates open at 1:00pm\nGame starts at 4:05pm\n\n— \nThis season\, The Bullpen continues to be the ultimate go-to destination for Nationals fans\, live music lovers\, and those looking to enjoy the best outdoor atmosphere in the city.  \nVisitors can look forward to an exciting lineup of offerings\, including: \n\nUpcoming country concerts and tribute band performances\nHome Game Happy Hour: $6 beers $7 cocktails from the top of the 3rd to bottom of 7th inning\nPre and post home game concerts featuring various DMV artists\nSurfside Food Truck with your favorite tacos\, quesadillas\, and burritos\n\nCheck our Instagram @thebullpendc for door times and event announcements. \n\nTo learn more about reserving our private dugouts and patios during Nationals’ games and concerts\, please contact Kayla Smith by emailing kayla@georgetownevents.com or calling (771) 241-3618. \nSee you there!
URL:https://www.thebullpendc.com/weekly-schedule/nationals-vs-rays-08-30-25/
LOCATION:The Bullpen\, 1201 Half Street Southeast\, Washington\, D.C.\, DC\, 20003\, United States
CATEGORIES:Nationals Games
END:VEVENT
BEGIN:VEVENT
DTSTART;TZID=UTC:20250831T110000
DTEND;TZID=UTC:20250831T220000
DTSTAMP:20260423T101159
CREATED:20250210T172827Z
LAST-MODIFIED:20250210T172827Z
UID:1376-1756638000-1756677600@www.thebullpendc.com
SUMMARY:Nationals Vs. Rays / Gates 11:00am
DESCRIPTION:Join us for another season of baseball\, brews\, and bands at The Bullpen! \n\nGates open at 11:00am\nGame starts at 1:35pm\n\n— \nThis season\, The Bullpen continues to be the ultimate go-to destination for Nationals fans\, live music lovers\, and those looking to enjoy the best outdoor atmosphere in the city.  \nVisitors can look forward to an exciting lineup of offerings\, including: \n\nUpcoming country concerts and tribute band performances\nHome Game Happy Hour: $6 beers $7 cocktails from the top of the 3rd to bottom of 7th inning\nPre and post home game concerts featuring various DMV artists\nSurfside Food Truck with your favorite tacos\, quesadillas\, and burritos\n\nCheck our Instagram @thebullpendc for door times and event announcements. \n\nTo learn more about reserving our private dugouts and patios during Nationals’ games and concerts\, please contact Kayla Smith by emailing kayla@georgetownevents.com or calling (771) 241-3618. \nSee you there!
URL:https://www.thebullpendc.com/weekly-schedule/nationals-vs-rays08-31-25/
LOCATION:The Bullpen\, 1201 Half Street Southeast\, Washington\, D.C.\, DC\, 20003\, United States
CATEGORIES:Nationals Games
END:VEVENT
END:VCALENDAR