BEGIN:VCALENDAR
VERSION:2.0
PRODID:-//The Bullpen - ECPv6.15.20//NONSGML v1.0//EN
CALSCALE:GREGORIAN
METHOD:PUBLISH
X-ORIGINAL-URL:https://www.thebullpendc.com
X-WR-CALDESC:Events for The Bullpen
REFRESH-INTERVAL;VALUE=DURATION:PT1H
X-Robots-Tag:noindex
X-PUBLISHED-TTL:PT1H
BEGIN:VTIMEZONE
TZID:UTC
BEGIN:STANDARD
TZOFFSETFROM:+0000
TZOFFSETTO:+0000
TZNAME:UTC
DTSTART:20240101T000000
END:STANDARD
END:VTIMEZONE
BEGIN:VEVENT
DTSTART;TZID=UTC:20251101T140000
DTEND;TZID=UTC:20251101T210000
DTSTAMP:20260421T053213
CREATED:20250826T164726Z
LAST-MODIFIED:20250826T164726Z
UID:1772-1762005600-1762030800@www.thebullpendc.com
SUMMARY:Navy Yard Halloween Bar Fest
DESCRIPTION:Mad City Bar Fest\, Mission Group & Versus presents the Navy Yard Halloween Bar Fest! Join us at Navy Yard’s most popular bars/clubs. \nCheck in to the bar you purchased a ticket to and receive a wristband that grants you access to all participating bars & drink specials! The bar fest is from 2-9pm. COSTUMES ENCOURAGED. \nYour wristband will provide access to the following bars: \n\nThe Bullpen\nRoyal Sands\nTakoda\nWalter’s\nChicken & Whiskey\nSTFU\nTap99\nSilver Social\nAtlas\nProblem Child\nMission – all day pre & post party\n\nLIMITED TIME $10 PRESALE NOW LIVE. One ticket. 10+ Navy Yard Bars & Clubs. NAVY YARD’S BIGGEST HALLOWEEN EVENT EVER! \nBUY TICKETS \nTicket does not guarantee entry to bars that are over capacity. Each bar has the right to refuse entry to any patron. Bars subject to change. This event is 21+. NO REFUNDS.
URL:https://www.thebullpendc.com/weekly-schedule/navy-yard-halloween-bar-fest/
LOCATION:The Bullpen\, 1201 Half St SE\, Washington\, DC\, 20003\, United States
CATEGORIES:Events
ATTACH;FMTTYPE=image/png:https://www.thebullpendc.com/wp-content/uploads/2025/08/DC_NavyYard_HalloweenBarFest_1920x1080_Presale.png
END:VEVENT
END:VCALENDAR